BEGIN:VCALENDAR
VERSION:2.0
PRODID:-//Weston Wholesale - ECPv6.15.20//NONSGML v1.0//EN
CALSCALE:GREGORIAN
METHOD:PUBLISH
X-WR-CALNAME:Weston Wholesale
X-ORIGINAL-URL:https://westonwholesale.com
X-WR-CALDESC:Events for Weston Wholesale
REFRESH-INTERVAL;VALUE=DURATION:PT1H
X-Robots-Tag:noindex
X-PUBLISHED-TTL:PT1H
BEGIN:VTIMEZONE
TZID:America/New_York
BEGIN:DAYLIGHT
TZOFFSETFROM:-0500
TZOFFSETTO:-0400
TZNAME:EDT
DTSTART:20200308T070000
END:DAYLIGHT
BEGIN:STANDARD
TZOFFSETFROM:-0400
TZOFFSETTO:-0500
TZNAME:EST
DTSTART:20201101T060000
END:STANDARD
BEGIN:DAYLIGHT
TZOFFSETFROM:-0500
TZOFFSETTO:-0400
TZNAME:EDT
DTSTART:20210314T070000
END:DAYLIGHT
BEGIN:STANDARD
TZOFFSETFROM:-0400
TZOFFSETTO:-0500
TZNAME:EST
DTSTART:20211107T060000
END:STANDARD
BEGIN:DAYLIGHT
TZOFFSETFROM:-0500
TZOFFSETTO:-0400
TZNAME:EDT
DTSTART:20220313T070000
END:DAYLIGHT
BEGIN:STANDARD
TZOFFSETFROM:-0400
TZOFFSETTO:-0500
TZNAME:EST
DTSTART:20221106T060000
END:STANDARD
END:VTIMEZONE
BEGIN:VEVENT
DTSTART;TZID=America/New_York:20210925T110000
DTEND;TZID=America/New_York:20210925T140000
DTSTAMP:20260423T181900
CREATED:20210921T173215Z
LAST-MODIFIED:20210925T120326Z
UID:44847-1632567600-1632578400@westonwholesale.com
SUMMARY:Fire Pit Demonstration with Cambridge Pavers: Chelmsford
DESCRIPTION:  \nJoin Keith Vinciguerra from Cambridge Pavers while he demonstrates the ease of building and the fun of using their fantastic firepits! We’ll have the demonstration and an opportunity to talk to Keith and ask questions and learn more about Cambridge Pavers. \nFREE for all!   Pre-registration here.
URL:https://westonwholesale.com/event/fire-pit-demonstration-with-cambridge-pavers/
LOCATION:Weston Nurseries Chelmsford\, 160 Pine Hill Road\, Chelmsford\, MA\, 01824\, United States
CATEGORIES:Chelmsford
ATTACH;FMTTYPE=image/jpeg:https://westonwholesale.com/wp-content/uploads/2021/09/Firepit.jpg
END:VEVENT
BEGIN:VEVENT
DTSTART;TZID=America/New_York:20210925T100000
DTEND;TZID=America/New_York:20210925T140000
DTSTAMP:20260423T181900
CREATED:20210921T173433Z
LAST-MODIFIED:20210922T200251Z
UID:44851-1632564000-1632578400@westonwholesale.com
SUMMARY:Q and A with Cambridge Pavers: Chelmsford
DESCRIPTION:  \nJoin us at our Chelmsford location and talk to Keith Vinciguerra and Matt Tomasetti about Cambridge Pavers products and what would work best for your project. They will be here and happy to answer any questions you might have. \nFREE for all!   Pre-registration here.
URL:https://westonwholesale.com/event/q-and-a-with-cambridge-pavers/
LOCATION:Weston Nurseries Chelmsford\, 160 Pine Hill Road\, Chelmsford\, MA\, 01824\, United States
CATEGORIES:Chelmsford
ATTACH;FMTTYPE=image/png:https://westonwholesale.com/wp-content/uploads/2021/09/qA.png
END:VEVENT
END:VCALENDAR