BEGIN:VCALENDAR
VERSION:2.0
PRODID:-//Weston Wholesale - ECPv6.15.20//NONSGML v1.0//EN
CALSCALE:GREGORIAN
METHOD:PUBLISH
X-WR-CALNAME:Weston Wholesale
X-ORIGINAL-URL:https://westonwholesale.com
X-WR-CALDESC:Events for Weston Wholesale
REFRESH-INTERVAL;VALUE=DURATION:PT1H
X-Robots-Tag:noindex
X-PUBLISHED-TTL:PT1H
BEGIN:VTIMEZONE
TZID:America/New_York
BEGIN:DAYLIGHT
TZOFFSETFROM:-0500
TZOFFSETTO:-0400
TZNAME:EDT
DTSTART:20200308T070000
END:DAYLIGHT
BEGIN:STANDARD
TZOFFSETFROM:-0400
TZOFFSETTO:-0500
TZNAME:EST
DTSTART:20201101T060000
END:STANDARD
BEGIN:DAYLIGHT
TZOFFSETFROM:-0500
TZOFFSETTO:-0400
TZNAME:EDT
DTSTART:20210314T070000
END:DAYLIGHT
BEGIN:STANDARD
TZOFFSETFROM:-0400
TZOFFSETTO:-0500
TZNAME:EST
DTSTART:20211107T060000
END:STANDARD
BEGIN:DAYLIGHT
TZOFFSETFROM:-0500
TZOFFSETTO:-0400
TZNAME:EDT
DTSTART:20220313T070000
END:DAYLIGHT
BEGIN:STANDARD
TZOFFSETFROM:-0400
TZOFFSETTO:-0500
TZNAME:EST
DTSTART:20221106T060000
END:STANDARD
BEGIN:DAYLIGHT
TZOFFSETFROM:-0500
TZOFFSETTO:-0400
TZNAME:EDT
DTSTART:20230312T070000
END:DAYLIGHT
BEGIN:STANDARD
TZOFFSETFROM:-0400
TZOFFSETTO:-0500
TZNAME:EST
DTSTART:20231105T060000
END:STANDARD
END:VTIMEZONE
BEGIN:VEVENT
DTSTART;TZID=America/New_York:20220726T070000
DTEND;TZID=America/New_York:20220726T140000
DTSTAMP:20260423T075702
CREATED:20220718T141043Z
LAST-MODIFIED:20220718T141107Z
UID:47219-1658818800-1658844000@westonwholesale.com
SUMMARY:Cambridge Pavers "Meet & Greet"
DESCRIPTION:Tuesday\, July 26 from 7am to 2pm\nWeston Wholesale\n40 Frankland Road\nHopkinton\, MA 01748\n\nCome and join Cambridge Pavingstones at Weston Wholesale in Hopkinton\, MA\, and meet Cambridge Paver’s staff and the Cambridge Pavers enthusiasts on our Weston Wholesale staff. Get some free food and drink\, pick up a catalog\, and learn about all of the new\, exciting and innovative products from Cambridge Pavers.\n\nSee you there!
URL:https://westonwholesale.com/event/cambridge-pavers-meet-greet/
LOCATION:Weston Wholesale Of Hopkinton\, 40 Frankland Road\, Hopkinton\, MA\, 01748\, United States
CATEGORIES:Hopinton
ATTACH;FMTTYPE=image/jpeg:https://westonwholesale.com/wp-content/uploads/2022/07/Cambridge-Pavers-22Meet-Greet22-Weston-Wholesale.jpeg
END:VEVENT
BEGIN:VEVENT
DTSTART;TZID=America/New_York:20220714T073000
DTEND;TZID=America/New_York:20220714T130000
DTSTAMP:20260423T075702
CREATED:20220505T174641Z
LAST-MODIFIED:20220505T174653Z
UID:47138-1657783800-1657803600@westonwholesale.com
SUMMARY:MNLA "Down to Earth" Summer Conference at Weston Nurseries - Hopkinton
DESCRIPTION:We’re Hosting the MNLA “Down to Earth” Summer Conference!\n\nThursday\, July 14 from 7:30am to 1pm\nWeston Wholesale in Hopkinton!\n\nWe are proud to announce that we are hosting this prestigious and well-respected summer green industry conference at our Hopkinton location this year on Thursday\, July 14. For more information and to register click the link below.\n\nRegister here!\n\nWe want to encourage all of our customers to become MNLA members so watch this space for information on sweepstakes and incentives to join MNLA and join us for the best conference and summer event of the year!
URL:https://westonwholesale.com/event/mnla-down-to-earth-summer-conference-at-weston-nurseries-hopkinton/
LOCATION:Weston Wholesale Of Hopkinton\, 40 Frankland Road\, Hopkinton\, MA\, 01748\, United States
CATEGORIES:Hopkinton
ATTACH;FMTTYPE=image/jpeg:https://westonwholesale.com/wp-content/uploads/2022/05/279481312_707271787280698_4698483365253878921_n.jpeg
END:VEVENT
BEGIN:VEVENT
DTSTART;TZID=America/New_York:20220323T180000
DTEND;TZID=America/New_York:20220323T200000
DTSTAMP:20260423T075702
CREATED:20220107T045548Z
LAST-MODIFIED:20220218T005343Z
UID:44971-1648058400-1648065600@westonwholesale.com
SUMMARY:Online | For us and Them: How Edible Native Plants Can Feed Us and Wildlife Together
DESCRIPTION:  \nAsk ten folks why they grow plants and you’re likely to get a variety of answers. The most common reasons are often aesthetic in nature–we like the look of a garden; it gives us a place to relax or play or drink wine with friends. However\, simple beauty is not always enough\, and in the modern era complicated issues such as sustainability and food stability are becoming more commonplace. Which plants will have the greatest ecological impacts? Which edibles are resistant to diseases and pests? What if you could have it all? A beautiful\, edible landscape that also supports the local ecosystem. \nJoin Dan Jaffe Wilder\, author and photographer of Native Plants for New England Gardens and Ecological Horticulturist at Norcross Wildlife Foundation\, to learn how low-maintenance native plants can feed us and wildlife together. \nCost: $20 \nPlease click here to register for this class \nAbout Dan Jaffe Wilder\, Director of Applied Ecology\, Norcross Wildlife Foundation \nPhotographer and author Dan Jaffe Wilder has over fifteen years’ experience with ecological horticulture. He is a propagator of native species\, the photographer and author of Native Plants for New England Gardens and a lecturer on numerous topics including wildlife habitat\, sustainable landscape practices\, foraging and cultivation of edible species\, low-maintenance horticulture and others. He has developed a native plant horticultural database (https://plantfinder.nativeplanttrust.org/Plant-Search) and has years of nursery management experience. \nDan earned a degree in botany from the University of Maine\, Orono\, and an advanced certificate in Native Plant Horticulture and Design from Native Plant Trust (formally New England Wild Flower Society). He is the Director of Applied Ecology for the Norcross Wildlife Foundation and is currently building his own home-scale homestead\, growing and foraging numerous edible species\, preserving and cooking whenever possible\, and raising small animals.
URL:https://westonwholesale.com/event/online-for-us-and-them-how-edible-native-plants-can-feed-us-and-wildlife-together/
LOCATION:MA
CATEGORIES:Online
ATTACH;FMTTYPE=image/jpeg:https://westonwholesale.com/wp-content/uploads/2022/01/Compost-compost-Tea-4.jpg
END:VEVENT
BEGIN:VEVENT
DTSTART;TZID=America/New_York:20220323T090000
DTEND;TZID=America/New_York:20220323T100000
DTSTAMP:20260423T075702
CREATED:20220109T164858Z
LAST-MODIFIED:20220310T174426Z
UID:44988-1648026000-1648029600@westonwholesale.com
SUMMARY:Alliance Products What? When? and How? | Hopkinton (In-Person)
DESCRIPTION:Weston Wholesale carries a variety of Alliance Polymeric/Resin-based sands to cover the ever-evolving nature of hardscapes installation. In this class\, we will discuss the benefits of using which types of sand to use in certain types of situations. We will also discuss the function and installation of our two new and exciting products called Nitro sand and Xtreme Edge. Attendees will have the opportunity to ask questions as they arise in real-time. Please come and enjoy a truly educational experience. \nJoin us in person at our Hopkinton wholesale location at 40 Frankland Road\, Hopkinton\, MA.  Food and beverages will be served. \nPlease fill out and submit the form below to register for this FREE event. \n\n\n                \n                        \n                            Free Event Registration\n                        \n                        Name\n                            \n                            \n                                                    \n                                                    First\n                                                \n                            \n                            \n                                                    \n                                                    Last\n                                                \n                            \n                        Company NamePhoneEmail\n                            \n                        Company Address
URL:https://westonwholesale.com/event/online-alliance-products-what-when-and-how/
LOCATION:Weston Wholesale Of Hopkinton\, 40 Frankland Road\, Hopkinton\, MA\, 01748\, United States
ATTACH;FMTTYPE=image/jpeg:https://westonwholesale.com/wp-content/uploads/2022/01/Alliance-Gator-logo.jpg
END:VEVENT
BEGIN:VEVENT
DTSTART;TZID=America/New_York:20220315T083000
DTEND;TZID=America/New_York:20220315T113000
DTSTAMP:20260423T075702
CREATED:20220107T040756Z
LAST-MODIFIED:20220218T005423Z
UID:44962-1647333000-1647343800@westonwholesale.com
SUMMARY:Online: Going Native with Dan Jaffe Wilder
DESCRIPTION:  \nThe past decade has seen massive changes in the landscape industry. The days of landscapes dedicated to beauty alone are passing. Customers are demanding ecologically sensitive landscapes; they want reduced lawn\, reduced maintenance\, and greater wildlife value. In other words\, they want native plants. But not all natives make good landscape choices; some are overly fussy about their habitat needs\, while others will take over small spaces\, and plenty more simply don’t resonate with all clients. Join Dan Jaffe Wilder\, author\, and the Director of Applied Ecology at Norcross Wildlife Foundation for a discussion about how to work native plants into any landscape. From tried-and-true species to solution plants for hard-to-fill spots we will discuss how to landscape with native plants successfully. \nCost: $25 \nClick here to register for this online presentation \nAbout Dan Jaffe Wilder\, Director of Applied Ecology\, Norcross Wildlife Foundation \nPhotographer and author Dan Jaffe Wilder has over fifteen years’ experience with ecological horticulture. He is a propagator of native species\, the photographer and author of Native Plants for New England Gardens and a lecturer on numerous topics including wildlife habitat\, sustainable landscape practices\, foraging and cultivation of edible species\, low-maintenance horticulture and others. He has developed a native plant horticultural database (https://plantfinder.nativeplanttrust.org/Plant-Search) and has years of nursery management experience. \nDan earned a degree in botany from the University of Maine\, Orono\, and an advanced certificate in Native Plant Horticulture and Design from Native Plant Trust (formally New England Wild Flower Society). He is the Director of Applied Ecology for the Norcross Wildlife Foundation and is currently building his own home-scale homestead\, growing and foraging numerous edible species\, preserving and cooking whenever possible\, and raising small animals.
URL:https://westonwholesale.com/event/online-going-native-with-dan-jaffe-wilder/
LOCATION:MA
CATEGORIES:Online
ATTACH;FMTTYPE=image/jpeg:https://westonwholesale.com/wp-content/uploads/2022/01/Going-Native-With-Dan-Wilder.jpg
END:VEVENT
BEGIN:VEVENT
DTSTART;TZID=America/New_York:20220309T180000
DTEND;TZID=America/New_York:20220309T193000
DTSTAMP:20260423T075702
CREATED:20220107T053549Z
LAST-MODIFIED:20220218T005452Z
UID:44976-1646848800-1646854200@westonwholesale.com
SUMMARY:Online: Composting 101 with Monique Bosch
DESCRIPTION:Have you always wanted to compost but didn’t know how to start? Have you felt frustrated throwing out food scraps\, knowing there are better ways to deal with food waste? If so\, this workshop is for you. Learn the many ways you can take food scraps out of the waste stream and turn them into a healthy soil amendment for your garden. We will demonstrate the many ways to compost\, how to use compost and what to expect along the way. \nCost: $20 \nPlease click here to register for this class \nAbout Monique Bosch \nMonique has built over 40 edible school and community gardens and farms around the Northeast\, including a 2-acre urban farm in Bridgeport CT. These days she works as a Soil Health Lead for CT NOFA. In addition\, she teaches ‘how to grow your own food’ and runs a worm composting business with her son Justin. She studied ‘The Soil Food Web’ under Dr. Elaine Ingham\, and teaches microscopy and soil health to farmers and organizations. Through microscopy and test trials\, Monique explores the relationship between living soil and healthy\, nutritious food.
URL:https://westonwholesale.com/event/online-composting-101-with-monique-bosch/
LOCATION:MA
CATEGORIES:Online
ATTACH;FMTTYPE=image/jpeg:https://westonwholesale.com/wp-content/uploads/2022/01/Compost-compost-Tea-3.jpg
END:VEVENT
BEGIN:VEVENT
DTSTART;TZID=America/New_York:20220303T180000
DTEND;TZID=America/New_York:20220303T193000
DTSTAMP:20260423T075702
CREATED:20220107T043933Z
LAST-MODIFIED:20220218T005523Z
UID:44969-1646330400-1646335800@westonwholesale.com
SUMMARY:Online: How to Make Your Life Easier with Native Plants
DESCRIPTION:Gardening can be difficult at times\, whether you’re trying to landscape an area under a dense pine canopy or grow the perfect tomato in a dry summer there are endless challenges to overcome. What if it were easier? What if there were plants that thrived under the pine trees\, or on the sandy roadsides or could even take the place of all that wasted space we call lawn? What if you could grow beautiful\, ecologically beneficial plants that evolved to deal with any problems that the New England landscape throws your way? Join Dan Jaffe Wilder to learn How to Make Your Life Easier with Native Plants \nAbout Dan Jaffe Wilder\, Director of Applied Ecology\, Norcross Wildlife Foundation \nPhotographer and author Dan Jaffe Wilder has over fifteen years’ experience with ecological horticulture. He is a propagator of native species\, the photographer and author of Native Plants for New England Gardens and a lecturer on numerous topics including wildlife habitat\, sustainable landscape practices\, foraging and cultivation of edible species\, low-maintenance horticulture and others. He has developed a native plant horticultural database (https://plantfinder.nativeplanttrust.org/Plant-Search) and has years of nursery management experience. \nDan earned a degree in botany from the University of Maine\, Orono\, and an advanced certificate in Native Plant Horticulture and Design from Native Plant Trust (formally New England Wild Flower Society). He is the Director of Applied Ecology for the Norcross Wildlife Foundation and is currently building his own home-scale homestead\, growing and foraging numerous edible species\, preserving and cooking whenever possible\, and raising small animals. \nOnline Class: March 3 at 6pm to 7:30pm \nCost: $20 \nPlease click here to register for this class
URL:https://westonwholesale.com/event/online-how-to-make-your-life-easier-with-native-plants/
LOCATION:MA
CATEGORIES:Online
ATTACH;FMTTYPE=image/jpeg:https://westonwholesale.com/wp-content/uploads/2022/01/Native-Plants-Dan-wilder.jpg
END:VEVENT
BEGIN:VEVENT
DTSTART;TZID=America/New_York:20220301T083000
DTEND;TZID=America/New_York:20220301T100000
DTSTAMP:20260423T075702
CREATED:20220107T051743Z
LAST-MODIFIED:20220218T005547Z
UID:44974-1646123400-1646128800@westonwholesale.com
SUMMARY:Online: Composting & Compost Tea
DESCRIPTION:Monique Bosch will bring her composting lecture\, given to Organic Land Care Professionals to Weston Nurseries. Various types of composting will be highlighted\, including thermophilic\, static aerated piles\, high-fungal methods and worm composting. Learn about the many ways to compost effectively\, using various inputs and different scales of operation. In addition\, making extracts and teas from the finished compost will be demonstrated. This workshop should help you get started with your own composting operation or show clients the best ways to compost at home. \nCost: $25 \nPlease click here to register for this class \nAbout Monique Bosch \nMonique has built over 40 edible school and community gardens and farms around the Northeast\, including a 2-acre urban farm in Bridgeport CT. These days she works as a Soil Health Lead for CT NOFA. In addition\, she teaches ‘how to grow your own food’ and runs a worm composting business with her son Justin. She studied ‘The Soil Food Web’ under Dr. Elaine Ingham\, and teaches microscopy and soil health to farmers and organizations. Through microscopy and test trials\, Monique explores the relationship between living soil and healthy\, nutritious food.
URL:https://westonwholesale.com/event/online-composting-compost-tea/
LOCATION:MA
CATEGORIES:Online
ATTACH;FMTTYPE=image/jpeg:https://westonwholesale.com/wp-content/uploads/2022/01/Compost-compost-Tea.jpg
END:VEVENT
BEGIN:VEVENT
DTSTART;TZID=America/New_York:20220225T120000
DTEND;TZID=America/New_York:20220225T140000
DTSTAMP:20260423T075702
CREATED:20220118T205939Z
LAST-MODIFIED:20220218T005632Z
UID:45001-1645790400-1645797600@westonwholesale.com
SUMMARY:Online: Native Woody Plants with Trevor Smith (Part 2/2)
DESCRIPTION:  \nIn this two-part class\, we will explore the huge variety of native trees\, shrubs\, and woody vines. You will learn which species grow well in shade\, which support local wildlife\, and how to stagger plantings for continual bloom\, fruit production\, and fall color. The course addresses growth characteristics\, cultural requirements\, and best horticultural uses. \nDay 1\n\n\n\nFlowering trees\n Shade Trees\n The BIG Five\n Understory Woodies\nViburnum\n\n\n\nDay 2\n\n\n\nEdibles\nBuilt Landscapes\nWoodies for Sunny\, Dry Sites\nSite-Specific Specialties\nLianas\n\n\n\nCost: $20 for both classes \nDates: February 18 and February 25 12pm to 2pm \nBIO: Trevor Smith has been growing nutrient dense produce for clients and advising gardeners for two decades. He has grown for Gisele Bundchen and Tom Brady\, and worked with chef Allen Campbell and many other Boston area chefs. His clients include CEO’s of organic food companies and everyday folks who want the healthiest food for their families\, those who want to take control of the food system and those who just like to garden. \nRegister for this class here!
URL:https://westonwholesale.com/event/online-native-woody-plants-with-trevor-smith-part-2-2/
LOCATION:MA
CATEGORIES:Online
END:VEVENT
BEGIN:VEVENT
DTSTART;TZID=America/New_York:20220223T090000
DTEND;TZID=America/New_York:20220223T103000
DTSTAMP:20260423T075702
CREATED:20220107T034704Z
LAST-MODIFIED:20220218T005705Z
UID:44957-1645606800-1645612200@westonwholesale.com
SUMMARY:Online: Ecotypes\, Ecoregions + Ecological Restoration: Fortifying The Living Seed Bank
DESCRIPTION:  \nThe Ecotype Project has created a model for native plants material development utilizing the ecoregional framework to ensure we are- planting the right plants in the right place. The truly local seed supply chain begins with trained botanists that wild-collect ecotypic seed\, which is grown out as a specialty crop by organic farmers in founder plots\, then cleaned and made commercially available to our nursery partners & by our farmer-led seed collective: Eco59. \nThe initiative’s intention is to repair local seed sheds to collectively re-wild the fragmented landscapes- by fortifying the living seed banks- the soils\, of our shared ecological corridors. \nCost: $25 \nClick here to register for this online presentation \n  \nAbout Sefra Alexandra \nThe Seed Huntress – is an endurance race ethnobotanist on a hunt to preserve the biodiversity of our wild and cultivated lands through seed conservation. Sefra leads – The Ecotype Project – to amplify the amount of truly local native seed available for ecological restoration\, creating the first ecoregional seed supply chain in the Northeast\, USA. In 2020 she began BOATanical.org where she guides expeditions that are paddlin’ for the pollinators\, planting native plants by boat along riparian corridors. Sefra holds her M.A.T. in agroecological education from Cornell University\, is a fellow of the Global Crop Diversity Trust\, a WINGS WorldQuest expedition flag carrier\, member of the Explorers Club and runs a wilderness skill school-The Readiness Collective- with her twin brother.
URL:https://westonwholesale.com/event/online-ecotypes-ecoregions-ecological-restoration-fortifying-the-living-seed-bank/
LOCATION:MA
CATEGORIES:Online
ATTACH;FMTTYPE=image/jpeg:https://westonwholesale.com/wp-content/uploads/2022/01/Ecotype-Project_Weston-Wholesale-1.jpg
END:VEVENT
BEGIN:VEVENT
DTSTART;TZID=America/New_York:20220218T120000
DTEND;TZID=America/New_York:20220218T140000
DTSTAMP:20260423T075702
CREATED:20220118T205402Z
LAST-MODIFIED:20220218T005742Z
UID:44999-1645185600-1645192800@westonwholesale.com
SUMMARY:Online: Native Woody Plants with Trevor Smith (Part1/2)
DESCRIPTION:  \nIn this two-part class\, we will explore the huge variety of native trees\, shrubs\, and woody vines. You will learn which species grow well in shade\, which support local wildlife\, and how to stagger plantings for continual bloom\, fruit production\, and fall color. The course addresses growth characteristics\, cultural requirements\, and best horticultural uses. \nDay 1\n\n\n\nFlowering trees\n Shade Trees\n The BIG Five\n Understory Woodies\nViburnum\n\n\n\nDay 2\n\n\n\nEdibles\nBuilt Landscapes\nWoodies for Sunny\, Dry Sites\nSite-Specific Specialties\nLianas\n\n\n\nCost: $20 for both classes \nDates: February 18 and February 25 12pm to 2pm \nBIO: Trevor Smith has been growing nutrient dense produce for clients and advising gardeners for two decades. He has grown for Gisele Bundchen and Tom Brady\, and worked with chef Allen Campbell and many other Boston area chefs. His clients include CEO’s of organic food companies and everyday folks who want the healthiest food for their families\, those who want to take control of the food system and those who just like to garden. \nRegister for this class here!
URL:https://westonwholesale.com/event/online-native-woody-plants-with-trevor-smith/
LOCATION:MA
CATEGORIES:Online
ATTACH;FMTTYPE=image/jpeg:https://westonwholesale.com/wp-content/uploads/2022/01/Native-Woody-Plants-1.jpg
END:VEVENT
BEGIN:VEVENT
DTSTART;TZID=America/New_York:20220111T090000
DTEND;TZID=America/New_York:20220111T100000
DTSTAMP:20260423T075702
CREATED:20211215T160145Z
LAST-MODIFIED:20220105T140504Z
UID:44923-1641891600-1641895200@westonwholesale.com
SUMMARY:Ice Melt Educational Seminar with Michelle Solonik of Meltco\, Inc (FREE)
DESCRIPTION:Meltco Inc’s ice melter training is a knowledgeable experience where we pack over 30 years of industry experience into one short class. During the class we will discuss valuable topics to help with an in-depth understanding of; \n\nHow Ice Melt is made\nManufacturing and logistics strategy\nHow Ice Melt ingredients work\nAnd how to select what Ice Melt is best for you\n\nOpen discussion and questions are encouraged during the entire presentation. \n\nClick here to register in advance for this meeting! \nAfter registering\, you will receive a confirmation email containing information about joining the meeting.
URL:https://westonwholesale.com/event/ice-melt-educational-seminar-with-michelle-solonik-of-meltco-inc/
LOCATION:MA
ATTACH;FMTTYPE=image/jpeg:https://westonwholesale.com/wp-content/uploads/2021/12/Ice-Melt-Educational-Seminar-Meltco-2.jpg
END:VEVENT
BEGIN:VEVENT
DTSTART;TZID=America/New_York:20210925T110000
DTEND;TZID=America/New_York:20210925T140000
DTSTAMP:20260423T075702
CREATED:20210921T173215Z
LAST-MODIFIED:20210925T120326Z
UID:44847-1632567600-1632578400@westonwholesale.com
SUMMARY:Fire Pit Demonstration with Cambridge Pavers: Chelmsford
DESCRIPTION:  \nJoin Keith Vinciguerra from Cambridge Pavers while he demonstrates the ease of building and the fun of using their fantastic firepits! We’ll have the demonstration and an opportunity to talk to Keith and ask questions and learn more about Cambridge Pavers. \nFREE for all!   Pre-registration here.
URL:https://westonwholesale.com/event/fire-pit-demonstration-with-cambridge-pavers/
LOCATION:Weston Nurseries Chelmsford\, 160 Pine Hill Road\, Chelmsford\, MA\, 01824\, United States
CATEGORIES:Chelmsford
ATTACH;FMTTYPE=image/jpeg:https://westonwholesale.com/wp-content/uploads/2021/09/Firepit.jpg
END:VEVENT
BEGIN:VEVENT
DTSTART;TZID=America/New_York:20210925T100000
DTEND;TZID=America/New_York:20210925T140000
DTSTAMP:20260423T075702
CREATED:20210921T173433Z
LAST-MODIFIED:20210922T200251Z
UID:44851-1632564000-1632578400@westonwholesale.com
SUMMARY:Q and A with Cambridge Pavers: Chelmsford
DESCRIPTION:  \nJoin us at our Chelmsford location and talk to Keith Vinciguerra and Matt Tomasetti about Cambridge Pavers products and what would work best for your project. They will be here and happy to answer any questions you might have. \nFREE for all!   Pre-registration here.
URL:https://westonwholesale.com/event/q-and-a-with-cambridge-pavers/
LOCATION:Weston Nurseries Chelmsford\, 160 Pine Hill Road\, Chelmsford\, MA\, 01824\, United States
CATEGORIES:Chelmsford
ATTACH;FMTTYPE=image/png:https://westonwholesale.com/wp-content/uploads/2021/09/qA.png
END:VEVENT
END:VCALENDAR