BEGIN:VCALENDAR
VERSION:2.0
PRODID:-//Weston Wholesale - ECPv6.15.20//NONSGML v1.0//EN
CALSCALE:GREGORIAN
METHOD:PUBLISH
X-WR-CALNAME:Weston Wholesale
X-ORIGINAL-URL:https://westonwholesale.com
X-WR-CALDESC:Events for Weston Wholesale
REFRESH-INTERVAL;VALUE=DURATION:PT1H
X-Robots-Tag:noindex
X-PUBLISHED-TTL:PT1H
BEGIN:VTIMEZONE
TZID:America/New_York
BEGIN:DAYLIGHT
TZOFFSETFROM:-0500
TZOFFSETTO:-0400
TZNAME:EDT
DTSTART:20220313T070000
END:DAYLIGHT
BEGIN:STANDARD
TZOFFSETFROM:-0400
TZOFFSETTO:-0500
TZNAME:EST
DTSTART:20221106T060000
END:STANDARD
BEGIN:DAYLIGHT
TZOFFSETFROM:-0500
TZOFFSETTO:-0400
TZNAME:EDT
DTSTART:20230312T070000
END:DAYLIGHT
BEGIN:STANDARD
TZOFFSETFROM:-0400
TZOFFSETTO:-0500
TZNAME:EST
DTSTART:20231105T060000
END:STANDARD
BEGIN:DAYLIGHT
TZOFFSETFROM:-0500
TZOFFSETTO:-0400
TZNAME:EDT
DTSTART:20240310T070000
END:DAYLIGHT
BEGIN:STANDARD
TZOFFSETFROM:-0400
TZOFFSETTO:-0500
TZNAME:EST
DTSTART:20241103T060000
END:STANDARD
BEGIN:DAYLIGHT
TZOFFSETFROM:-0500
TZOFFSETTO:-0400
TZNAME:EDT
DTSTART:20250309T070000
END:DAYLIGHT
BEGIN:STANDARD
TZOFFSETFROM:-0400
TZOFFSETTO:-0500
TZNAME:EST
DTSTART:20251102T060000
END:STANDARD
BEGIN:DAYLIGHT
TZOFFSETFROM:-0500
TZOFFSETTO:-0400
TZNAME:EDT
DTSTART:20260308T070000
END:DAYLIGHT
BEGIN:STANDARD
TZOFFSETFROM:-0400
TZOFFSETTO:-0500
TZNAME:EST
DTSTART:20261101T060000
END:STANDARD
END:VTIMEZONE
BEGIN:VEVENT
DTSTART;TZID=America/New_York:20230117T130000
DTEND;TZID=America/New_York:20230117T140000
DTSTAMP:20260423T182251
CREATED:20230109T111534Z
LAST-MODIFIED:20230109T113538Z
UID:47404-1673960400-1673964000@westonwholesale.com
SUMMARY:Alliance Products: Nitro vs. Poly Sand: Stronger isn't always better!
DESCRIPTION:Weston Wholesale carries a variety of Alliance Polymeric/Resin-based sands to cover the ever-evolving nature of hardscapes installation. \nNITRO VS. POLY SAND:\nSTRONGER ISN’T ALWAYS BETTER \nLive Broadcast: Hardscape Training \nWhat’s the difference between Nitro and polymeric sands? Nitro is new\,\ncatchy\, and hardens like mortar\, but is it right for every job? Come learn\nwhen to use Nitro and when you’re better off sticking with polymeric sands\nfor your jointing needs. \nJOIN US FOR A GROUP LEARNING EXPERIENCE! LIVE BROADCAST FROM GATOR STUDIO. \nQ&A WITH GATOR TECH DIRECTOR Attendees will have the opportunity to ask questions as they arise in real-time. Please come and enjoy a truly educational experience. \nJoin us in person at our Hopkinton wholesale location at 40 Frankland Road\, Hopkinton\, MA.  Food and beverages will be served. \nPlease fill out and submit the form below to register for this FREE event. \n\n\n                \n                        \n                            Free Event Registration\n                        \n                        Name\n                            \n                            \n                                                    \n                                                    First\n                                                \n                            \n                            \n                                                    \n                                                    Last\n                                                \n                            \n                        Company NamePhoneEmail\n                            \n                        Company Address\n          \n            \n            \n            \n            \n            \n            \n            \n            \n            \n            \n            \n            \n            \n        \n                        \n                        \n\n 
URL:https://westonwholesale.com/event/47404/
LOCATION:Weston Wholesale Of Hopkinton\, 40 Frankland Road\, Hopkinton\, MA\, 01748\, United States
CATEGORIES:Hopinton
ATTACH;FMTTYPE=image/jpeg:https://westonwholesale.com/wp-content/uploads/2023/01/Alliance-Gator-logo.jpg
END:VEVENT
BEGIN:VEVENT
DTSTART;TZID=America/New_York:20230131T130000
DTEND;TZID=America/New_York:20230131T140000
DTSTAMP:20260423T182251
CREATED:20230120T223505Z
LAST-MODIFIED:20230120T225107Z
UID:47415-1675170000-1675173600@westonwholesale.com
SUMMARY:Alliance: Nitro vs arena polimérica tradicional: Más fuerte no siempre es mejor (Spanish Speaking Event)
DESCRIPTION:  \npreinscripción solicitada: \n                \n                        \n                            Nitro vs arena polimérica\n                             \n                        \n                        nombre\n                            \n                            \n                                                    \n                                                    primer nombre\n                                                \n                            \n                            \n                                                    \n                                                    apellido\n                                                \n                            \n                        nombre de empresanúmero de teléfonoEmail\n                            \n                        Dirección de la empresa
URL:https://westonwholesale.com/event/alliance-nitro-vs-arena/
LOCATION:Weston Wholesale Of Hopkinton\, 40 Frankland Road\, Hopkinton\, MA\, 01748\, United States
CATEGORIES:Hopinton
ATTACH;FMTTYPE=image/jpeg:https://westonwholesale.com/wp-content/uploads/2023/01/Alliance-Gator-logo.jpg
END:VEVENT
BEGIN:VEVENT
DTSTART;TZID=America/New_York:20230320T100000
DTEND;TZID=America/New_York:20230320T110000
DTSTAMP:20260423T182251
CREATED:20230316T165326Z
LAST-MODIFIED:20230316T165906Z
UID:47441-1679306400-1679310000@westonwholesale.com
SUMMARY:Free Event! 10 Trees and 10 Shrubs that are Overused and Better Alternatives
DESCRIPTION:Pre-registration requested. Please fill out form below to let us know you’re coming. \nCalling all designers\, landscape architects\, and installers! \nDarryl Newman from Planters’ Choice will discuss plants that might have merit in the landscape but are frequently used incorrectly or are not ideal in a constantly changing climate. More sustainable choices\, which include many natives/nativars\, will be offered. All require less inputs regardless of their origins. Tips on how to maintain both the overused plants and their alternatives will be discussed to help attendees realize better success in their cultivated landscapes. \nAbout Darryl:\nDarryl Newman co-owns Planters’ Choice alongside his father Chuck\, the nursery’s founder. He is a University of Maryland graduate with a degree in Landscape Management. He worked as a Project Manager for prominent landscape design/build firms in the Washington DC area before returning to Planters’ Choice in 2004. Darryl is a Past President of the Connecticut Nursery and Landscape Association and the 2019 Award of Merit Winner. Being blessed with an incredibly gifted and supportive staff who allows him enough time\, he has given presentations for the New York Botanical Garden\, UCONN\, Naugatuck Valley Community College\, University of Maryland\, CTASLA\, CT Northeast Organic Farming Association\, the Connecticut Nursery and Landscape Association\, the Connecticut Tree Protective Association\, the Connecticut Urban Forest Council\, the Connecticut Tree Wardens Association\, the Connecticut Environmental Council\, the Connecticut Invasive Plant Working Group and the Ecological Landscape Alliance. \n\n                \n                        \n                            Free Event Registration\n                             \n                        \n                        Name\n                            \n                            \n                                                    \n                                                    First\n                                                \n                            \n                            \n                                                    \n                                                    Last\n                                                \n                            \n                        Company NamePhoneEmail\n                            \n                        Company Address
URL:https://westonwholesale.com/event/free-event-10-trees-and-10-shrubs-that-are-overused-and-better-alternatives/
LOCATION:Weston Wholesale Of Hopkinton\, 40 Frankland Road\, Hopkinton\, MA\, 01748\, United States
ATTACH;FMTTYPE=image/png:https://westonwholesale.com/wp-content/uploads/2023/03/weeping-cherry.png
END:VEVENT
BEGIN:VEVENT
DTSTART;TZID=America/New_York:20240606T070000
DTEND;TZID=America/New_York:20240606T140000
DTSTAMP:20260423T182251
CREATED:20240522T200052Z
LAST-MODIFIED:20240522T200417Z
UID:51941-1717657200-1717682400@westonwholesale.com
SUMMARY:Cambridge Armor Tec Meet & Greet - Hopkinton
DESCRIPTION:See all the new Cambridge Armortec products\, pick up their new catalog and grab a bite to eat at our Cambridge Armor Tec Meet & Greet from 7 am to 2 pm on Thursday\, June 6th at our Hopkinton Wholesale location.
URL:https://westonwholesale.com/event/cambridge-armortec-meet-greet-hopkinton/
LOCATION:Weston Wholesale Of Hopkinton\, 40 Frankland Road\, Hopkinton\, MA\, 01748\, United States
CATEGORIES:Hopkinton
ATTACH;FMTTYPE=image/jpeg:https://westonwholesale.com/wp-content/uploads/2024/05/cambridge6-SQUARE.jpg
END:VEVENT
BEGIN:VEVENT
DTSTART;TZID=America/New_York:20240620T100000
DTEND;TZID=America/New_York:20240620T140000
DTSTAMP:20260423T182251
CREATED:20240612T132807Z
LAST-MODIFIED:20240612T132920Z
UID:51956-1718877600-1718892000@westonwholesale.com
SUMMARY:Burgers & Bobcats
DESCRIPTION:Bobcat will be bringing their newest models to Weston Wholesale of Middleborough on Thursday June 20 from 10am to 2pm. \nBurgers and beverage will be served!
URL:https://westonwholesale.com/event/burgers-bobcats/
LOCATION:Weston Wholesale of Middleborough\, 3 River Street\, Middleborough\, MA\, 02346\, United States
CATEGORIES:Middleborough
ATTACH;FMTTYPE=image/png:https://westonwholesale.com/wp-content/uploads/2024/06/bobcat-2-logo-png-transparent.png
END:VEVENT
BEGIN:VEVENT
DTSTART;TZID=America/New_York:20250626T070000
DTEND;TZID=America/New_York:20250626T140000
DTSTAMP:20260423T182251
CREATED:20250530T152704Z
LAST-MODIFIED:20250625T205744Z
UID:53631-1750921200-1750946400@westonwholesale.com
SUMMARY:Postponed to July- Cambridge ArmorTec Meet & Greet - Hopkinton
DESCRIPTION:  \nPostponed to July- New date to be announced ASAP! \nSee all the new Cambridge ArmorTec products\, pick up their new catalog and grab a bite to eat at our Cambridge ArmorTec Meet & Greet from 7 am to 2 pm on Thursday\, June 26th at our Hopkinton Wholesale location.
URL:https://westonwholesale.com/event/cambridge-armortec-meet-greet-hopkinton-6-26-25/
LOCATION:Weston Wholesale Of Hopkinton\, 40 Frankland Road\, Hopkinton\, MA\, 01748\, United States
CATEGORIES:Hopkinton
ATTACH;FMTTYPE=image/jpeg:https://westonwholesale.com/wp-content/uploads/2024/05/cambridge6-SQUARE.jpg
END:VEVENT
BEGIN:VEVENT
DTSTART;TZID=America/New_York:20250808T130000
DTEND;TZID=America/New_York:20250808T163000
DTSTAMP:20260423T182251
CREATED:20250730T134415Z
LAST-MODIFIED:20250731T171357Z
UID:53651-1754658000-1754670600@westonwholesale.com
SUMMARY:Healthy Soil for Landscapers & Gardeners
DESCRIPTION:  \nClick here to register! \nOrganic and sustainable landscaping is more than just purchasing amendments and avoiding herbicides. If you are (or your client) is concerned about weed pressure\, soil erosion\, drought\, or the use of herbicides\, starting with the health of the soil will help to solve those issues. In this workshop\, we’ll cover the fundamental components that will make your landscaping efforts go further\, whether you’re a professional landscaper or a home gardener. Our facilitators will offer some of the tools and techniques you’ll need to assess soil and to landscape smarter. \nThroughout the day we will: \n\nLearn what to look for when making soil assessments and the fundamentals of healthy soil\nDiscover innovative ways to integrate these practices into your work\nUse a variety of tools to look at soil microbes and compaction\nDiscuss the benefits and challenges of transitioning to more eco-friendly practices\, including cost analysis
URL:https://westonwholesale.com/event/healthy-soil-for-landscapers-gardeners/
LOCATION:Weston Wholesale Of Hopkinton\, 40 Frankland Road\, Hopkinton\, MA\, 01748\, United States
CATEGORIES:Hopinton
ATTACH;FMTTYPE=image/png:https://westonwholesale.com/wp-content/uploads/2025/07/NOFA-For-MailChimp-3.png
END:VEVENT
END:VCALENDAR